BEGIN:VCALENDAR
VERSION:2.0
PRODID:-//Werkbank32 - ECPv6.15.17.1//NONSGML v1.0//EN
CALSCALE:GREGORIAN
METHOD:PUBLISH
X-ORIGINAL-URL:https://werkbank32.eu
X-WR-CALDESC:Veranstaltungen für Werkbank32
REFRESH-INTERVAL;VALUE=DURATION:PT1H
X-Robots-Tag:noindex
X-PUBLISHED-TTL:PT1H
BEGIN:VTIMEZONE
TZID:Europe/Berlin
BEGIN:DAYLIGHT
TZOFFSETFROM:+0100
TZOFFSETTO:+0200
TZNAME:CEST
DTSTART:20230326T010000
END:DAYLIGHT
BEGIN:STANDARD
TZOFFSETFROM:+0200
TZOFFSETTO:+0100
TZNAME:CET
DTSTART:20231029T010000
END:STANDARD
BEGIN:DAYLIGHT
TZOFFSETFROM:+0100
TZOFFSETTO:+0200
TZNAME:CEST
DTSTART:20240331T010000
END:DAYLIGHT
BEGIN:STANDARD
TZOFFSETFROM:+0200
TZOFFSETTO:+0100
TZNAME:CET
DTSTART:20241027T010000
END:STANDARD
BEGIN:DAYLIGHT
TZOFFSETFROM:+0100
TZOFFSETTO:+0200
TZNAME:CEST
DTSTART:20250330T010000
END:DAYLIGHT
BEGIN:STANDARD
TZOFFSETFROM:+0200
TZOFFSETTO:+0100
TZNAME:CET
DTSTART:20251026T010000
END:STANDARD
END:VTIMEZONE
BEGIN:VEVENT
DTSTART;TZID=Europe/Berlin:20240926T150000
DTEND;TZID=Europe/Berlin:20240926T190000
DTSTAMP:20260421T202224
CREATED:20240625T061104Z
LAST-MODIFIED:20240830T092956Z
UID:4553-1727362800-1727377200@werkbank32.eu
SUMMARY:MittelstandsTag 2024 - Für Unternehmen mit Perspektive
DESCRIPTION:Organisiert von der IHK Chemnitz Regionalkammer Mittelsachsen\, dem Referat Wirtschaftsförderung Landkreis Mittelsachsen\, der Volksbank Mittweida eG sowie Teleskopeffekt\, ist der MittelstandsTag die ideale Plattform\, um gemeinsam Lösungen für aktuelle Herausforderungen\, denen Unternehmen gegenüberstehen\, zu diskutieren. \nWie kann man Technologien und KI effektiv nutzen und welche Rolle spielen mentale Gesundheit sowie der internationale Fachkräftemarkt für eine erfolgreiche Zukunft? Als Teilnehmer*in profitierst du von Praxisbeispielen und Learnings aus dem Berufsalltag renommierter Unternehmen und Expert*innen inkl. praktischer Tipps zur schnellen Umsetzung – bspw. zum Aufbau von Onlineshops oder der Finanzierung von Projekten. \nKomm am 26.09. ins Innovationszentrum Werkbank32 in Mittweida und profitiere vom geballten Know-how. \n\n		\n		\n			\n				\n			\n			\n				\n			\n		\n\n\nWas Dich erwartet:\n ➡ Impulsvorträge \nDie Themen:  \nDigitale Anwendungen im Arbeitsalltag – was hat sich bewährt und was nicht? – ein Praxiseinblick\n(Kerstin Kunze – Referat Wirtschaftsförderung Landkreis Mittelsachsen\, Dr. Cindy Krause – IHK Chemnitz Regionalkammer Mittelsachsen\, Dr. Julia Breßler – TeleskopEffekt GmbH) \nFirmenplanung – was sind die Grundlagen für Investitionsentscheidungen?\n(Steffen Krause\, Volksbank Mittweida eG) \nKünstliche Intelligenz trifft Recht – worauf musst du rechtlich beim Nutzen von KI achten? \n(Ines Maria Tacke\, Mittelstands Digital Zentrum) \nGesund am Arbeitsplatz – Einblicke in betriebliches Gesundheitsmanagement\n(Maik Lorenz\, R + V Versicherungen) \n  \n ➡ Workshops \nPraktische Workshops zu folgenden Themen:  \nDigitale Kompetenzen im Unternehmen – welche brauchen wir und wie bauen wir diese im Unternehmen auf?\n(Sven Heese und Dr. Julia Breßler) \nEntlastung durch Sport am Arbeitsplatz – Mit Business Yoga fit und fokussiert\n(Nadine Hans) \nInvestieren in StartUps – eine Chance für Wachstum\n(Kevin Tost und Marion Mattern) \nFirmenplanung\, Finanzplanung einfach mittels Software erstellen\n(VR Agrarnetz\, Business Planner) \n  \n ➡ Podiumsdiskussion \n… zur Gewinnung und Bindung internationaler Fachkräfte mit dem Zentrum für Fachkräftesicherung und Gute Arbeit. \n  \n ➡ Networking und Fingerfood \n  \nDeine Investition:\n69 € inkl. MwSt. – Der Teilnahmebeitrag umfasst den Zugang zu allen Vorträgen\, Workshops\, der Podiumsdiskussion sowie die Organisations- und Verpflegungspauschale. \nMelde dich jetzt an und sichere dir deinen Platz! \nWir freuen uns darauf\, dich am 26. September in Mittweida zu begrüßen und gemeinsam innovative Wege für den Mittelstand zu erkunden. \n  \nHier geht’s zur Anmeldung: \nUm das Anmeldeformular für unsere Veranstaltung anzuzeigen\, ist Ihre Einwilligung zur Nutzung von Cookies erforderlich. Diese Cookies ermöglichen es uns\, das Formular bereitzustellen und Ihre Anmeldung zu verarbeiten. Ohne Ihre Zustimmung können wir Ihnen das Formular leider nicht anzeigen. Weitere Informationen zur Datenverarbeitung finden Sie in unserer Datenschutzerklärung. \nSolltest du Probleme mit dem Formular haben\, kannst du dich an veranstaltung@teleskopeffekt.de wenden oder telefonisch unter 03727/5654800 anmelden.
URL:https://werkbank32.eu/veranstaltung/mittelstandstag/
LOCATION:Werkbank32\, Bahnhofstraße 32 · 09648 Mittweida\, Mittweida\, Sachsen\, 09648\, Deutschland
CATEGORIES:Alle,Für die Region,Werkbank32
ATTACH;FMTTYPE=image/jpeg:https://werkbank32.eu/wp-content/uploads/2024/06/FS-Mittelstandstag-2024-Headerbild.jpg
END:VEVENT
END:VCALENDAR