BEGIN:VCALENDAR
VERSION:2.0
PRODID:-//Werkbank32 - ECPv6.15.17.1//NONSGML v1.0//EN
CALSCALE:GREGORIAN
METHOD:PUBLISH
X-ORIGINAL-URL:https://werkbank32.eu
X-WR-CALDESC:Veranstaltungen für Werkbank32
REFRESH-INTERVAL;VALUE=DURATION:PT1H
X-Robots-Tag:noindex
X-PUBLISHED-TTL:PT1H
BEGIN:VTIMEZONE
TZID:Europe/Berlin
BEGIN:DAYLIGHT
TZOFFSETFROM:+0100
TZOFFSETTO:+0200
TZNAME:CEST
DTSTART:20230326T010000
END:DAYLIGHT
BEGIN:STANDARD
TZOFFSETFROM:+0200
TZOFFSETTO:+0100
TZNAME:CET
DTSTART:20231029T010000
END:STANDARD
BEGIN:DAYLIGHT
TZOFFSETFROM:+0100
TZOFFSETTO:+0200
TZNAME:CEST
DTSTART:20240331T010000
END:DAYLIGHT
BEGIN:STANDARD
TZOFFSETFROM:+0200
TZOFFSETTO:+0100
TZNAME:CET
DTSTART:20241027T010000
END:STANDARD
BEGIN:DAYLIGHT
TZOFFSETFROM:+0100
TZOFFSETTO:+0200
TZNAME:CEST
DTSTART:20250330T010000
END:DAYLIGHT
BEGIN:STANDARD
TZOFFSETFROM:+0200
TZOFFSETTO:+0100
TZNAME:CET
DTSTART:20251026T010000
END:STANDARD
END:VTIMEZONE
BEGIN:VEVENT
DTSTART;TZID=Europe/Berlin:20241025T120000
DTEND;TZID=Europe/Berlin:20241025T130000
DTSTAMP:20260421T175933
CREATED:20240222T124616Z
LAST-MODIFIED:20240815T065259Z
UID:1704-1729857600-1729861200@werkbank32.eu
SUMMARY:Startup Werkzeugkasten: Aufbau eines digitalen Business Netzwerkwerks mit LinkedIn
DESCRIPTION:Networking bedeutet\, relevante Kontakte aufzubauen\, sich mit Gleichgesinnten auszutauschen und einander zu unterstützen. Doch besonders im digitalen Raum gibt es viele „Salespfosten“\, Kontakt-Grabber und automatisierte Kontaktanfragen. Deshalb zeigt Anne Meinhardt dir\, wie du auf LinkedIn souverän und stilvoll netzwerken kannst\, relevante Kontakte findest und eine Verbindung zwischen deinem digitalen und analogen Netzwerk herstellst. Wir werden uns anschauen\, welche Bedeutung die digitale Etikette hat\, welche Arten von Netzwerken es gibt\, wie du neue Kontakte findest und dein Netzwerk aktiv pflegst. Aber auch\, wie du mit kommentarlosen Massenanfragen souverän umgehen kannst und entscheidest\, wer Teil deines Netzwerks sein sollte. \nNutze die Chancen des digitalen Netzwerkens für dich: \n\npräsentiere dich als ansprechbare und offene Persönlichkeit\nbaue dein operatives und strategisches Netzwerk aus\nfestige deine Kontakte und erhalte belastbare Beziehungen\nwirke sympathischer dank digitaler Etikette\n\nNutze jetzt die Möglichkeiten von LinkedIn\, um dir ein ortsunabhängiges\, belastbares digitales Netzwerk aufzubauen.
URL:https://werkbank32.eu/veranstaltung/startup-werkzeugkasten-aufbau-eines-digitalen-business-netzwerkwerks-mit-linkedin/
LOCATION:digital
CATEGORIES:Für Startups
ATTACH;FMTTYPE=image/png:https://werkbank32.eu/wp-content/uploads/2024/02/LinkedIn-1200-x-1200.png
ORGANIZER;CN="TeleskopEffekt GmbH":MAILTO:info@teleskopeffekt.de
END:VEVENT
BEGIN:VEVENT
DTSTART;VALUE=DATE:20241029
DTEND;VALUE=DATE:20241030
DTSTAMP:20260421T175933
CREATED:20241002T110008Z
LAST-MODIFIED:20241007T062036Z
UID:4701-1730160000-1730246399@werkbank32.eu
SUMMARY:Energieeffizienz-Tag 2024
DESCRIPTION:Energieeffizienz-Tag 2024: Kleine Schritte\, große Wirkung \nEine angespannte wirtschaftliche Lage. Klimaerwärmung. Steigende Energiekosten. \nThemen\, die aktuell wohl viele Menschen beschäftigen.\nAm 29. Oktober 2024 laden wir dich darum herzlich zum Energieeffizienz-Tag in der Werkbank32 in Mittweida ein. Lerne praxisnahe Tipps und innovative Ansätze kennen\, um deinen Energieverbrauch zu senken und gleichzeitig von staatlichen Förderungen zu profitieren. Damit kannst du bares Geld sparen und obendrein etwas für die Umwelt tun. \nWarum teilnehmen?\nNutze die Gelegenheit\, dich in entspannter Atmosphäre mit Experten auszutauschen und mehr über praxisnahe Lösungen zu erfahren\, die du direkt umsetzen kannst. Der Eintritt ist kostenlos und für eine kleine Verpflegung ist ebenfalls gesorgt. \nVeranstaltungsdetails und Anmeldung:\nDatum: Dienstag\, 29. Oktober 2024\nZeit: Ab 17:00 Uhr\nOrt: Werkbank32\, Mittweida \nMelde dich jetzt an und entdecke\, wie du mit kleinen Schritten Großes bewegen kannst!\nZur Anmeldung \nDas erwartet dich:\nFördermittel- und Energieberatung:\nErfahre\, welche staatlichen Unterstützungen dir bei Sanierungen zur Verfügung stehen. \nPhotovoltaik-Erfahrungsbericht:\nEin Erfahrungsbericht aus erster Hand zeigt\, wie Sie mit Solaranlagen langfristig Geld sparen können. \nMieterstrom-Modelle:\nWie Mieter und Vermieter gemeinsam von einer effizienten Energieversorgung profitieren können. \nPreisverleihung Kühlschrank-Aktion:\nÜber die vergangenen Wochen wurde der älteste betriebene Kühlschrank Mittweidas gesucht: In der Werkbank32 küren wir den Sieger oder die Siegerin.\n→  Außerdem gibt es praktische Tipps\, wie du deine Haushaltsgeräte energiesparender nutzen kannst.\n→  Mehr zur Aktion findest du hier \nWir freuen uns auf dich!
URL:https://werkbank32.eu/veranstaltung/energieeffizienztag-2024/
LOCATION:Werkbank32\, Bahnhofstraße 32 · 09648 Mittweida\, Mittweida\, Sachsen\, 09648\, Deutschland
CATEGORIES:Für die Region,Für Startups,Nachhaltigkeit,Werkbank32
ATTACH;FMTTYPE=image/png:https://werkbank32.eu/wp-content/uploads/2024/10/Energieeffizienztag.png
END:VEVENT
END:VCALENDAR