BEGIN:VCALENDAR
VERSION:2.0
PRODID:-//Werkbank32 - ECPv6.15.20//NONSGML v1.0//EN
CALSCALE:GREGORIAN
METHOD:PUBLISH
X-ORIGINAL-URL:https://werkbank32.eu
X-WR-CALDESC:Veranstaltungen für Werkbank32
REFRESH-INTERVAL;VALUE=DURATION:PT1H
X-Robots-Tag:noindex
X-PUBLISHED-TTL:PT1H
BEGIN:VTIMEZONE
TZID:Europe/Berlin
BEGIN:DAYLIGHT
TZOFFSETFROM:+0100
TZOFFSETTO:+0200
TZNAME:CEST
DTSTART:20230326T010000
END:DAYLIGHT
BEGIN:STANDARD
TZOFFSETFROM:+0200
TZOFFSETTO:+0100
TZNAME:CET
DTSTART:20231029T010000
END:STANDARD
BEGIN:DAYLIGHT
TZOFFSETFROM:+0100
TZOFFSETTO:+0200
TZNAME:CEST
DTSTART:20240331T010000
END:DAYLIGHT
BEGIN:STANDARD
TZOFFSETFROM:+0200
TZOFFSETTO:+0100
TZNAME:CET
DTSTART:20241027T010000
END:STANDARD
BEGIN:DAYLIGHT
TZOFFSETFROM:+0100
TZOFFSETTO:+0200
TZNAME:CEST
DTSTART:20250330T010000
END:DAYLIGHT
BEGIN:STANDARD
TZOFFSETFROM:+0200
TZOFFSETTO:+0100
TZNAME:CET
DTSTART:20251026T010000
END:STANDARD
END:VTIMEZONE
BEGIN:VEVENT
DTSTART;TZID=Europe/Berlin:20240513T090000
DTEND;TZID=Europe/Berlin:20240513T130000
DTSTAMP:20260423T142359
CREATED:20240510T065451Z
LAST-MODIFIED:20240510T065803Z
UID:4467-1715590800-1715605200@werkbank32.eu
SUMMARY:IHK Chemnitz diskutiert mit Unternehmen die Bedeutung regionaler Ökosysteme für die Wirtschaft
DESCRIPTION:Die IHK Chemnitz lädt interessierte Unternehmen am 13.05.2024 in die Werkbank32- Bahnhofstraße 32 in Mittweida ein.   \nIn der Zeit von 09:00 – 13:00 Uhr wird gemeinsam mit dem Projekt Arbeitgeberattraktivität herausgearbeitet\, welchen Beitrag das regionale Ökosystems für die mittelsächsische Wirtschaft leistet.  \nWas ist ein wirtschaftliches Ökosystem und wer gehört dazu? Wie können Unternehmen eine Arbeitgebermarke aufbauen und Social Media dafür nutzen? Antworten auf diese Fragen und Einblicke in die Nutzungsmöglichkeiten der künstlichen Intelligenz (KI) für die Unternehmenspraxis sowie der Blick nach Estland runden das Programm ab.  \nZum Ablauf: \nDie Veranstaltung findet im Rahmen der Fachkräfteallianz Mittelsachsen statt.  \n\nVorstellung Ökosystem – Melanie Kögler (15 min.)\nRecruiting – Candy Meinunger (20 min.)\nAufbau einer Arbeitgebermarke – wie nutze ich meine Social Media Präsenz für die Bereiche Employer Branding und Social Recruiting – Pierre Graupner (30 min.)\nChatGPT – Marion Matern (30 min.)\nLiveschaltung Estland (15 min.)\nGemeinsames Mittagessen – Netzwerken (1h)\nKennenlernen der Werkbank32 – (30 min.)\n\nUnternehmen\, die an der Veranstaltung teilnehmen möchten\, werden gebeten\, sich über das Veranstaltungsportal der IHK Chemnitz anzumelden.  \n\n\nZur Anmeldung: HIER.  \nZögern Sie nicht\, nutzen Sie diese einmalige Gelegenheit.
URL:https://werkbank32.eu/veranstaltung/ihk-chemnitz-diskutiert-mit-unternehmen-die-bedeutung-regionaler-oekosysteme-fuer-die-wirtschaft/
LOCATION:Werkbank32\, Bahnhofstraße 32 · 09648 Mittweida\, Mittweida\, Sachsen\, 09648\, Deutschland
CATEGORIES:Mittelstand,Werkbank32
END:VEVENT
END:VCALENDAR