BEGIN:VCALENDAR
VERSION:2.0
PRODID:-//Werkbank32 - ECPv6.15.20//NONSGML v1.0//EN
CALSCALE:GREGORIAN
METHOD:PUBLISH
X-WR-CALNAME:Werkbank32
X-ORIGINAL-URL:https://werkbank32.eu/en
X-WR-CALDESC:Events for Werkbank32
REFRESH-INTERVAL;VALUE=DURATION:PT1H
X-Robots-Tag:noindex
X-PUBLISHED-TTL:PT1H
BEGIN:VTIMEZONE
TZID:Europe/Berlin
BEGIN:DAYLIGHT
TZOFFSETFROM:+0100
TZOFFSETTO:+0200
TZNAME:CEST
DTSTART:20250330T010000
END:DAYLIGHT
BEGIN:STANDARD
TZOFFSETFROM:+0200
TZOFFSETTO:+0100
TZNAME:CET
DTSTART:20251026T010000
END:STANDARD
BEGIN:DAYLIGHT
TZOFFSETFROM:+0100
TZOFFSETTO:+0200
TZNAME:CEST
DTSTART:20260329T010000
END:DAYLIGHT
BEGIN:STANDARD
TZOFFSETFROM:+0200
TZOFFSETTO:+0100
TZNAME:CET
DTSTART:20261025T010000
END:STANDARD
BEGIN:DAYLIGHT
TZOFFSETFROM:+0100
TZOFFSETTO:+0200
TZNAME:CEST
DTSTART:20270328T010000
END:DAYLIGHT
BEGIN:STANDARD
TZOFFSETFROM:+0200
TZOFFSETTO:+0100
TZNAME:CET
DTSTART:20271031T010000
END:STANDARD
END:VTIMEZONE
BEGIN:VEVENT
DTSTART;TZID=Europe/Berlin:20260108T140000
DTEND;TZID=Europe/Berlin:20260108T190000
DTSTAMP:20260422T112748
CREATED:20260211T184740Z
LAST-MODIFIED:20260211T184740Z
UID:5022-1767880800-1767898800@werkbank32.eu
SUMMARY:Blutspende in Mittweida
DESCRIPTION:Regelmäßig finden in der Werkbank32 Blutspendetermine des Haema Blutspendedienstes statt. Mit Ihrer Spende leisten Sie einen wichtigen Beitrag zur medizinischen Versorgung in unserer Region. \nWeitere Informationen finden Sie auf der Website von Haema.
URL:https://werkbank32.eu/en/veranstaltung/blutspende-in-mittweida-7/
LOCATION:Werkbank32\, Bahnhofstraße 32 · 09648 Mittweida\, Mittweida\, Sachsen\, 09648\, Deutschland
CATEGORIES:Werkbank32
ATTACH;FMTTYPE=image/jpeg:https://werkbank32.eu/wp-content/uploads/2026/02/scan_20260209085613.jpg
END:VEVENT
BEGIN:VEVENT
DTSTART;TZID=Europe/Berlin:20260115T140000
DTEND;TZID=Europe/Berlin:20260115T190000
DTSTAMP:20260422T112748
CREATED:20260211T184650Z
LAST-MODIFIED:20260211T184650Z
UID:5021-1768485600-1768503600@werkbank32.eu
SUMMARY:Blutspende in Mittweida
DESCRIPTION:Regelmäßig finden in der Werkbank32 Blutspendetermine des Haema Blutspendedienstes statt. Mit Ihrer Spende leisten Sie einen wichtigen Beitrag zur medizinischen Versorgung in unserer Region. \nWeitere Informationen finden Sie auf der Website von Haema.
URL:https://werkbank32.eu/en/veranstaltung/blutspende-in-mittweida-6/
LOCATION:Werkbank32\, Bahnhofstraße 32 · 09648 Mittweida\, Mittweida\, Sachsen\, 09648\, Deutschland
CATEGORIES:Werkbank32
ATTACH;FMTTYPE=image/jpeg:https://werkbank32.eu/wp-content/uploads/2026/02/scan_20260209085613.jpg
END:VEVENT
BEGIN:VEVENT
DTSTART;TZID=Europe/Berlin:20260205T140000
DTEND;TZID=Europe/Berlin:20260205T190000
DTSTAMP:20260422T112748
CREATED:20260211T184609Z
LAST-MODIFIED:20260211T184609Z
UID:5020-1770300000-1770318000@werkbank32.eu
SUMMARY:Blutspende in Mittweida
DESCRIPTION:Regelmäßig finden in der Werkbank32 Blutspendetermine des Haema Blutspendedienstes statt. Mit Ihrer Spende leisten Sie einen wichtigen Beitrag zur medizinischen Versorgung in unserer Region. \nWeitere Informationen finden Sie auf der Website von Haema.
URL:https://werkbank32.eu/en/veranstaltung/blutspende-in-mittweida-5/
LOCATION:Werkbank32\, Bahnhofstraße 32 · 09648 Mittweida\, Mittweida\, Sachsen\, 09648\, Deutschland
CATEGORIES:Werkbank32
ATTACH;FMTTYPE=image/jpeg:https://werkbank32.eu/wp-content/uploads/2026/02/scan_20260209085613.jpg
END:VEVENT
BEGIN:VEVENT
DTSTART;TZID=Europe/Berlin:20260212T140000
DTEND;TZID=Europe/Berlin:20260212T190000
DTSTAMP:20260422T112748
CREATED:20260211T181731Z
LAST-MODIFIED:20260211T183934Z
UID:5012-1770904800-1770922800@werkbank32.eu
SUMMARY:Blutspende in Mittweida
DESCRIPTION:Regelmäßig finden in der Werkbank32 Blutspendetermine des Haema Blutspendedienstes statt. Mit Ihrer Spende leisten Sie einen wichtigen Beitrag zur medizinischen Versorgung in unserer Region. \nWeitere Informationen finden Sie auf der Website von Haema.
URL:https://werkbank32.eu/en/veranstaltung/blutspende-in-mittweida-werkbank32/
LOCATION:Werkbank32\, Bahnhofstraße 32 · 09648 Mittweida\, Mittweida\, Sachsen\, 09648\, Deutschland
CATEGORIES:Werkbank32
ATTACH;FMTTYPE=image/jpeg:https://werkbank32.eu/wp-content/uploads/2026/02/scan_20260209085613.jpg
END:VEVENT
BEGIN:VEVENT
DTSTART;TZID=Europe/Berlin:20260305T140000
DTEND;TZID=Europe/Berlin:20260305T190000
DTSTAMP:20260422T112748
CREATED:20260211T184240Z
LAST-MODIFIED:20260211T184240Z
UID:5016-1772719200-1772737200@werkbank32.eu
SUMMARY:Blutspende in Mittweida
DESCRIPTION:Regelmäßig finden in der Werkbank32 Blutspendetermine des Haema Blutspendedienstes statt. Mit Ihrer Spende leisten Sie einen wichtigen Beitrag zur medizinischen Versorgung in unserer Region. \nWeitere Informationen finden Sie auf der Website von Haema.
URL:https://werkbank32.eu/en/veranstaltung/blutspende-in-mittweida/
LOCATION:Werkbank32\, Bahnhofstraße 32 · 09648 Mittweida\, Mittweida\, Sachsen\, 09648\, Deutschland
CATEGORIES:Werkbank32
ATTACH;FMTTYPE=image/jpeg:https://werkbank32.eu/wp-content/uploads/2026/02/scan_20260209085613.jpg
END:VEVENT
BEGIN:VEVENT
DTSTART;TZID=Europe/Berlin:20260312T140000
DTEND;TZID=Europe/Berlin:20260312T190000
DTSTAMP:20260422T112748
CREATED:20260211T184346Z
LAST-MODIFIED:20260211T184346Z
UID:5018-1773324000-1773342000@werkbank32.eu
SUMMARY:Blutspende in Mittweida
DESCRIPTION:Regelmäßig finden in der Werkbank32 Blutspendetermine des Haema Blutspendedienstes statt. Mit Ihrer Spende leisten Sie einen wichtigen Beitrag zur medizinischen Versorgung in unserer Region. \nWeitere Informationen finden Sie auf der Website von Haema.
URL:https://werkbank32.eu/en/veranstaltung/blutspende-in-mittweida-2/
LOCATION:Werkbank32\, Bahnhofstraße 32 · 09648 Mittweida\, Mittweida\, Sachsen\, 09648\, Deutschland
CATEGORIES:Werkbank32
ATTACH;FMTTYPE=image/jpeg:https://werkbank32.eu/wp-content/uploads/2026/02/scan_20260209085613.jpg
END:VEVENT
BEGIN:VEVENT
DTSTART;TZID=Europe/Berlin:20260326T110000
DTEND;TZID=Europe/Berlin:20260326T180000
DTSTAMP:20260422T112748
CREATED:20260223T161431Z
LAST-MODIFIED:20260223T165534Z
UID:5043-1774522800-1774548000@werkbank32.eu
SUMMARY:Kreativschmiede Mittelsachsen
DESCRIPTION:Perspektiven bündeln. Zukunft gestalten. \nWie erleben wir Mittelsachsen heute – als Wirtschaftsstandort\, als Lebensraum\, als Ort für Zukunft? \nGemeinsam mit Landrat Sven Krüger laden wir zur Kreativschmiede ein. Dieses offene Austausch- und Arbeitsformat bringt Menschen aus Wirtschaft\, Verwaltung\, Kreativszene\, Bildung und Zivilgesellschaft zusammen. \nWorum geht es? \nDie Kreativschmiede schafft Raum für unterschiedliche Perspektiven und ehrliche Rückmeldungen: \n\nWas funktioniert in unserer Region gut?\nWas bewegt die Menschen in Mittelsachsen?\nWas braucht es\, um auch künftig attraktiv und handlungsfähig zu bleiben?\n\nIm Mittelpunkt stehen nicht fertige Konzepte\, sondern gemeinsames Verstehen\, konstruktiver Austausch und erste konkrete Impulse für die Region. \nWas entsteht im Laufe des Tages? \nIn verschiedenen Gesprächs- und Arbeitsformaten entwickeln wir gemeinsam: \n\nein aktuelles Stimmungsbild der Wirtschaftsregion\,\nzentrale Themen und Herausforderungen aus unterschiedlichen Blickwinkeln\,\nverbindende Leitgedanken für die weitere Entwicklung\,\nsowie erste Ideen für kleine\, sichtbare Aktionen im regionalen Alltag.\n\nDie Kreativschmiede versteht sich als Startpunkt für weiteres Zusammenarbeiten und Weiterdenken – mit Raum für Erfahrung\, Pragmatismus und neue Sichtweisen.\nHier anmelden:
URL:https://werkbank32.eu/en/veranstaltung/kreativschmiede-mittelsachsen/
LOCATION:Werkbank32\, Bahnhofstraße 32 · 09648 Mittweida\, Mittweida\, Sachsen\, 09648\, Deutschland
CATEGORIES:Werkbank32
END:VEVENT
BEGIN:VEVENT
DTSTART;TZID=Europe/Berlin:20260327T120000
DTEND;TZID=Europe/Berlin:20260327T130000
DTSTAMP:20260422T112748
CREATED:20260321T201811Z
LAST-MODIFIED:20260321T201924Z
UID:5046-1774612800-1774616400@werkbank32.eu
SUMMARY:Lunch & Learn: 36 Mut-Impulse – Wie Sie Ihre Jahresziele doch noch erreichen
DESCRIPTION:Viele Jahresziele starten motiviert – und verschwinden dann Schritt für Schritt im Alltag. Zwischen Meetings\, operativem Druck und privaten Verpflichtungen bleibt oft wenig Raum für konsequentes Dranbleiben. \nDieses Lunch & Learn setzt genau hier an. \nIn einer kompakten Stunde erhalten Sie 36 konkrete Impulse\, die Ihnen helfen\, Ihre Ziele wieder in den Fokus zu rücken – klar formuliert\, alltagstauglich und direkt umsetzbar. \nIm Mittelpunkt stehen drei zentrale Fragen: \n\nWarum scheitern gute Vorsätze so häufig im Alltag?\nWie kommen Sie wieder ins Handeln – auch ohne perfekte Rahmenbedingungen?\nWelche konkreten Schritte helfen Ihnen\, Ihre Ziele in den kommenden Wochen wirklich umzusetzen?\n\nDas Format richtet sich an Führungskräfte\, Mitarbeitende und alle\, die ihre Vorhaben nicht ins nächste Jahr verschieben möchten. \nAm Ende der Veranstaltung erhalten Sie die „36 Mut-Impulse“ als PDF – als praktische Begleitung für die kommenden Wochen. \nDie Anmeldung erfolgt über die Website des Veranstalters: https://www.agentur-fuer-redner.com/events/lunch-learn-wie-sie-ihre-jahresziele-retten/  \n\nImpulsgeber: MutOffensive\nDie MutOffensive ist eine Initiative von Prof. Leonhard Zintl\, Dr. Julia Breßler\, Dr. Benjamin Zeitler und Prof. Dr. Alexander Knauer. \nZiel ist es\, Menschen dabei zu unterstützen\, ins Handeln zu kommen und Verantwortung zu übernehmen – nicht durch Theorie\, sondern durch konkrete\, umsetzbare Impulse für den Alltag. \nModeration & Impuls\nBert Helbig begleitet die Veranstaltung als Moderator und Impulsgeber.Als Berater für strategische Kommunikation unterstützt er die MutOffensive bei der Entwicklung von Keynotes und klarer Positionierung. Seine Stärke liegt in der Verbindung von strategischer Perspektive und direkt anwendbaren Tools.
URL:https://werkbank32.eu/en/veranstaltung/lunch-learn-jahresziele-erreichen-36-impulse-fuer-ihren-alltag/
LOCATION:digital
CATEGORIES:MutOffensive
END:VEVENT
BEGIN:VEVENT
DTSTART;TZID=Europe/Berlin:20260402T140000
DTEND;TZID=Europe/Berlin:20260402T190000
DTSTAMP:20260422T112749
CREATED:20260211T184432Z
LAST-MODIFIED:20260211T184432Z
UID:5017-1775138400-1775156400@werkbank32.eu
SUMMARY:Blutspende in Mittweida
DESCRIPTION:Regelmäßig finden in der Werkbank32 Blutspendetermine des Haema Blutspendedienstes statt. Mit Ihrer Spende leisten Sie einen wichtigen Beitrag zur medizinischen Versorgung in unserer Region. \nWeitere Informationen finden Sie auf der Website von Haema.
URL:https://werkbank32.eu/en/veranstaltung/blutspende-in-mittweida-3/
LOCATION:Werkbank32\, Bahnhofstraße 32 · 09648 Mittweida\, Mittweida\, Sachsen\, 09648\, Deutschland
CATEGORIES:Werkbank32
ATTACH;FMTTYPE=image/jpeg:https://werkbank32.eu/wp-content/uploads/2026/02/scan_20260209085613.jpg
END:VEVENT
BEGIN:VEVENT
DTSTART;TZID=Europe/Berlin:20260409T140000
DTEND;TZID=Europe/Berlin:20260409T190000
DTSTAMP:20260422T112749
CREATED:20260211T184526Z
LAST-MODIFIED:20260211T184526Z
UID:5019-1775743200-1775761200@werkbank32.eu
SUMMARY:Blutspende in Mittweida
DESCRIPTION:Regelmäßig finden in der Werkbank32 Blutspendetermine des Haema Blutspendedienstes statt. Mit Ihrer Spende leisten Sie einen wichtigen Beitrag zur medizinischen Versorgung in unserer Region. \nWeitere Informationen finden Sie auf der Website von Haema.
URL:https://werkbank32.eu/en/veranstaltung/blutspende-in-mittweida-4/
LOCATION:Werkbank32\, Bahnhofstraße 32 · 09648 Mittweida\, Mittweida\, Sachsen\, 09648\, Deutschland
CATEGORIES:Werkbank32
ATTACH;FMTTYPE=image/jpeg:https://werkbank32.eu/wp-content/uploads/2026/02/scan_20260209085613.jpg
END:VEVENT
BEGIN:VEVENT
DTSTART;VALUE=DATE:20260421
DTEND;VALUE=DATE:20260422
DTSTAMP:20260422T112749
CREATED:20260323T183557Z
LAST-MODIFIED:20260417T133635Z
UID:5056-1776729600-1776815999@werkbank32.eu
SUMMARY:Unternehmensaustausch für Unternehmerinnen und Unternehmer
DESCRIPTION:Region Weiden in der Oberpfalz \nEin Tag Abstand vom Tagesgeschäft.Neue Perspektiven. Austausch auf Augenhöhe. \nWorum es geht\nDer unternehmerische Alltag lässt oft wenig Raum für Abstand.Entscheidungen\, operative Themen und Verantwortung bestimmen den Tag. \nMit dem Unternehmensaustausch schaffen wir bewusst einen Rahmen\, um genau das zu durchbrechen: \n👉 einen Tag raus aus dem eigenen Unternehmen👉 neue Einblicke in reale Praxis👉 Austausch mit anderen Unternehmerinnen und Unternehmern \nDer Fokus liegt nicht auf Theorie\, sondern auf dem\, was tatsächlich funktioniert. \nWas Sie erwartet\n\ngemeinsamer Tagesausflug in die Region Weiden in der Oberpfalz\nEinblicke in produzierendes Gewerbe und unternehmerische Praxis\nGespräche mit anderen Unternehmerinnen und Unternehmern auf Augenhöhe\nRaum für Austausch\, Reflexion und neue Perspektiven\nZeit\, das eigene Unternehmen aus einer anderen Sicht zu betrachten\n\nDer Unternehmensaustausch ist bewusst kompakt gehalten und verzichtet auf klassische Vortragsformate. \nFür wen ist das Format gedacht?\n\nUnternehmerinnen und Unternehmer\nEntscheiderinnen und Entscheider aus kleinen und mittleren Unternehmen\nPersonen mit unternehmerischer Verantwortung\n\nBranchenunabhängig. \nWarum teilnehmen?\nViele Teilnehmende der vergangenen Jahre beschreiben den größten Mehrwert so: \n\nAbstand gewinnen\, ohne Urlaub zu machen\nsehen\, wie andere Unternehmen konkrete Herausforderungen lösen\nehrlicher Austausch ohne Verkaufsfolien\nKontakte\, die über den Tag hinaus bestehen bleiben\n\nOder einfacher gesagt:Nicht im Unternehmen arbeiten – sondern am Unternehmen. \nHinweis zum Programm\nDie konkreten Stationen und Inhalte befinden sich aktuell noch in Abstimmung.Der Anspruch bleibt: relevante Einblicke\, echte Praxis und Zeit für Austausch. \nTeilnahme & Anmeldung\nDie Reise ist vollständig ausgebucht.
URL:https://werkbank32.eu/en/veranstaltung/unternehmensaustausch-fuer-unternehmerinnen-und-unternehmer/
ATTACH;FMTTYPE=image/png:https://werkbank32.eu/wp-content/uploads/2026/04/Design-ohne-Titel.png
END:VEVENT
BEGIN:VEVENT
DTSTART;TZID=Europe/Berlin:20260430T140000
DTEND;TZID=Europe/Berlin:20260430T190000
DTSTAMP:20260422T112749
CREATED:20260211T184908Z
LAST-MODIFIED:20260211T184908Z
UID:5023-1777557600-1777575600@werkbank32.eu
SUMMARY:Blutspende in Mittweida
DESCRIPTION:Regelmäßig finden in der Werkbank32 Blutspendetermine des Haema Blutspendedienstes statt. Mit Ihrer Spende leisten Sie einen wichtigen Beitrag zur medizinischen Versorgung in unserer Region. \nWeitere Informationen finden Sie auf der Website von Haema.
URL:https://werkbank32.eu/en/veranstaltung/blutspende-in-mittweida-8/
LOCATION:Werkbank32\, Bahnhofstraße 32 · 09648 Mittweida\, Mittweida\, Sachsen\, 09648\, Deutschland
CATEGORIES:Werkbank32
ATTACH;FMTTYPE=image/jpeg:https://werkbank32.eu/wp-content/uploads/2026/02/scan_20260209085613.jpg
END:VEVENT
BEGIN:VEVENT
DTSTART;TZID=Europe/Berlin:20260507T140000
DTEND;TZID=Europe/Berlin:20260507T190000
DTSTAMP:20260422T112749
CREATED:20260211T185035Z
LAST-MODIFIED:20260211T185035Z
UID:5024-1778162400-1778180400@werkbank32.eu
SUMMARY:Blutspende in Mittweida
DESCRIPTION:Regelmäßig finden in der Werkbank32 Blutspendetermine des Haema Blutspendedienstes statt. Mit Ihrer Spende leisten Sie einen wichtigen Beitrag zur medizinischen Versorgung in unserer Region. \nWeitere Informationen finden Sie auf der Website von Haema.
URL:https://werkbank32.eu/en/veranstaltung/blutspende-in-mittweida-9/
LOCATION:Werkbank32\, Bahnhofstraße 32 · 09648 Mittweida\, Mittweida\, Sachsen\, 09648\, Deutschland
CATEGORIES:Werkbank32
ATTACH;FMTTYPE=image/jpeg:https://werkbank32.eu/wp-content/uploads/2026/02/scan_20260209085613.jpg
END:VEVENT
BEGIN:VEVENT
DTSTART;TZID=Europe/Berlin:20260528T140000
DTEND;TZID=Europe/Berlin:20260528T190000
DTSTAMP:20260422T112749
CREATED:20260211T185224Z
LAST-MODIFIED:20260211T185224Z
UID:5025-1779976800-1779994800@werkbank32.eu
SUMMARY:Blutspende in Mittweida
DESCRIPTION:Regelmäßig finden in der Werkbank32 Blutspendetermine des Haema Blutspendedienstes statt. Mit Ihrer Spende leisten Sie einen wichtigen Beitrag zur medizinischen Versorgung in unserer Region. \nWeitere Informationen finden Sie auf der Website von Haema.
URL:https://werkbank32.eu/en/veranstaltung/blutspende-in-mittweida-10/
LOCATION:Werkbank32\, Bahnhofstraße 32 · 09648 Mittweida\, Mittweida\, Sachsen\, 09648\, Deutschland
CATEGORIES:Werkbank32
ATTACH;FMTTYPE=image/jpeg:https://werkbank32.eu/wp-content/uploads/2026/02/scan_20260209085613.jpg
END:VEVENT
BEGIN:VEVENT
DTSTART;TZID=Europe/Berlin:20260604T140000
DTEND;TZID=Europe/Berlin:20260604T190000
DTSTAMP:20260422T112749
CREATED:20260211T185338Z
LAST-MODIFIED:20260211T185338Z
UID:5026-1780581600-1780599600@werkbank32.eu
SUMMARY:Blutspende in Mittweida
DESCRIPTION:Regelmäßig finden in der Werkbank32 Blutspendetermine des Haema Blutspendedienstes statt. Mit Ihrer Spende leisten Sie einen wichtigen Beitrag zur medizinischen Versorgung in unserer Region. \nWeitere Informationen finden Sie auf der Website von Haema.
URL:https://werkbank32.eu/en/veranstaltung/blutspende-in-mittweida-11/
LOCATION:Werkbank32\, Bahnhofstraße 32 · 09648 Mittweida\, Mittweida\, Sachsen\, 09648\, Deutschland
CATEGORIES:Werkbank32
ATTACH;FMTTYPE=image/jpeg:https://werkbank32.eu/wp-content/uploads/2026/02/scan_20260209085613.jpg
END:VEVENT
BEGIN:VEVENT
DTSTART;TZID=Europe/Berlin:20260625T140000
DTEND;TZID=Europe/Berlin:20260625T190000
DTSTAMP:20260422T112749
CREATED:20260211T185420Z
LAST-MODIFIED:20260211T185420Z
UID:5027-1782396000-1782414000@werkbank32.eu
SUMMARY:Blutspende in Mittweida
DESCRIPTION:Regelmäßig finden in der Werkbank32 Blutspendetermine des Haema Blutspendedienstes statt. Mit Ihrer Spende leisten Sie einen wichtigen Beitrag zur medizinischen Versorgung in unserer Region. \nWeitere Informationen finden Sie auf der Website von Haema.
URL:https://werkbank32.eu/en/veranstaltung/blutspende-in-mittweida-12/
LOCATION:Werkbank32\, Bahnhofstraße 32 · 09648 Mittweida\, Mittweida\, Sachsen\, 09648\, Deutschland
CATEGORIES:Werkbank32
ATTACH;FMTTYPE=image/jpeg:https://werkbank32.eu/wp-content/uploads/2026/02/scan_20260209085613.jpg
END:VEVENT
BEGIN:VEVENT
DTSTART;TZID=Europe/Berlin:20260702T140000
DTEND;TZID=Europe/Berlin:20260702T190000
DTSTAMP:20260422T112749
CREATED:20260211T185524Z
LAST-MODIFIED:20260211T185524Z
UID:5028-1783000800-1783018800@werkbank32.eu
SUMMARY:Blutspende in Mittweida
DESCRIPTION:Regelmäßig finden in der Werkbank32 Blutspendetermine des Haema Blutspendedienstes statt. Mit Ihrer Spende leisten Sie einen wichtigen Beitrag zur medizinischen Versorgung in unserer Region. \nWeitere Informationen finden Sie auf der Website von Haema.
URL:https://werkbank32.eu/en/veranstaltung/blutspende-in-mittweida-13/
LOCATION:Werkbank32\, Bahnhofstraße 32 · 09648 Mittweida\, Mittweida\, Sachsen\, 09648\, Deutschland
CATEGORIES:Werkbank32
ATTACH;FMTTYPE=image/jpeg:https://werkbank32.eu/wp-content/uploads/2026/02/scan_20260209085613.jpg
END:VEVENT
BEGIN:VEVENT
DTSTART;TZID=Europe/Berlin:20260723T140000
DTEND;TZID=Europe/Berlin:20260723T190000
DTSTAMP:20260422T112749
CREATED:20260211T185740Z
LAST-MODIFIED:20260211T185740Z
UID:5029-1784815200-1784833200@werkbank32.eu
SUMMARY:Blutspende in Mittweida
DESCRIPTION:Regelmäßig finden in der Werkbank32 Blutspendetermine des Haema Blutspendedienstes statt. Mit Ihrer Spende leisten Sie einen wichtigen Beitrag zur medizinischen Versorgung in unserer Region. \nWeitere Informationen finden Sie auf der Website von Haema.
URL:https://werkbank32.eu/en/veranstaltung/blutspende-in-mittweida-14/
LOCATION:Werkbank32\, Bahnhofstraße 32 · 09648 Mittweida\, Mittweida\, Sachsen\, 09648\, Deutschland
CATEGORIES:Werkbank32
ATTACH;FMTTYPE=image/jpeg:https://werkbank32.eu/wp-content/uploads/2026/02/scan_20260209085613.jpg
END:VEVENT
BEGIN:VEVENT
DTSTART;TZID=Europe/Berlin:20260730T140000
DTEND;TZID=Europe/Berlin:20260730T190000
DTSTAMP:20260422T112749
CREATED:20260211T185835Z
LAST-MODIFIED:20260211T185835Z
UID:5030-1785420000-1785438000@werkbank32.eu
SUMMARY:Blutspende in Mittweida
DESCRIPTION:Regelmäßig finden in der Werkbank32 Blutspendetermine des Haema Blutspendedienstes statt. Mit Ihrer Spende leisten Sie einen wichtigen Beitrag zur medizinischen Versorgung in unserer Region. \nWeitere Informationen finden Sie auf der Website von Haema.
URL:https://werkbank32.eu/en/veranstaltung/blutspende-in-mittweida-15/
LOCATION:Werkbank32\, Bahnhofstraße 32 · 09648 Mittweida\, Mittweida\, Sachsen\, 09648\, Deutschland
CATEGORIES:Werkbank32
ATTACH;FMTTYPE=image/jpeg:https://werkbank32.eu/wp-content/uploads/2026/02/scan_20260209085613.jpg
END:VEVENT
BEGIN:VEVENT
DTSTART;TZID=Europe/Berlin:20260820T140000
DTEND;TZID=Europe/Berlin:20260820T190000
DTSTAMP:20260422T112749
CREATED:20260211T185942Z
LAST-MODIFIED:20260211T185942Z
UID:5031-1787234400-1787252400@werkbank32.eu
SUMMARY:Blutspende in Mittweida
DESCRIPTION:Regelmäßig finden in der Werkbank32 Blutspendetermine des Haema Blutspendedienstes statt. Mit Ihrer Spende leisten Sie einen wichtigen Beitrag zur medizinischen Versorgung in unserer Region. \nWeitere Informationen finden Sie auf der Website von Haema.
URL:https://werkbank32.eu/en/veranstaltung/blutspende-in-mittweida-16/
LOCATION:Werkbank32\, Bahnhofstraße 32 · 09648 Mittweida\, Mittweida\, Sachsen\, 09648\, Deutschland
CATEGORIES:Werkbank32
ATTACH;FMTTYPE=image/jpeg:https://werkbank32.eu/wp-content/uploads/2026/02/scan_20260209085613.jpg
END:VEVENT
BEGIN:VEVENT
DTSTART;TZID=Europe/Berlin:20260827T140000
DTEND;TZID=Europe/Berlin:20260827T190000
DTSTAMP:20260422T112749
CREATED:20260211T190206Z
LAST-MODIFIED:20260211T190206Z
UID:5032-1787839200-1787857200@werkbank32.eu
SUMMARY:Blutspende in Mittweida
DESCRIPTION:Regelmäßig finden in der Werkbank32 Blutspendetermine des Haema Blutspendedienstes statt. Mit Ihrer Spende leisten Sie einen wichtigen Beitrag zur medizinischen Versorgung in unserer Region. \nWeitere Informationen finden Sie auf der Website von Haema.
URL:https://werkbank32.eu/en/veranstaltung/blutspende-in-mittweida-17/
LOCATION:Werkbank32\, Bahnhofstraße 32 · 09648 Mittweida\, Mittweida\, Sachsen\, 09648\, Deutschland
CATEGORIES:Werkbank32
ATTACH;FMTTYPE=image/jpeg:https://werkbank32.eu/wp-content/uploads/2026/02/scan_20260209085613.jpg
END:VEVENT
BEGIN:VEVENT
DTSTART;TZID=Europe/Berlin:20260917T140000
DTEND;TZID=Europe/Berlin:20260917T190000
DTSTAMP:20260422T112749
CREATED:20260211T190311Z
LAST-MODIFIED:20260211T190311Z
UID:5033-1789653600-1789671600@werkbank32.eu
SUMMARY:Blutspende in Mittweida
DESCRIPTION:Regelmäßig finden in der Werkbank32 Blutspendetermine des Haema Blutspendedienstes statt. Mit Ihrer Spende leisten Sie einen wichtigen Beitrag zur medizinischen Versorgung in unserer Region. \nWeitere Informationen finden Sie auf der Website von Haema.
URL:https://werkbank32.eu/en/veranstaltung/blutspende-in-mittweida-18/
LOCATION:Werkbank32\, Bahnhofstraße 32 · 09648 Mittweida\, Mittweida\, Sachsen\, 09648\, Deutschland
CATEGORIES:Werkbank32
ATTACH;FMTTYPE=image/jpeg:https://werkbank32.eu/wp-content/uploads/2026/02/scan_20260209085613.jpg
END:VEVENT
BEGIN:VEVENT
DTSTART;TZID=Europe/Berlin:20260924T140000
DTEND;TZID=Europe/Berlin:20260924T190000
DTSTAMP:20260422T112749
CREATED:20260211T190405Z
LAST-MODIFIED:20260211T190405Z
UID:5034-1790258400-1790276400@werkbank32.eu
SUMMARY:Blutspende in Mittweida
DESCRIPTION:Regelmäßig finden in der Werkbank32 Blutspendetermine des Haema Blutspendedienstes statt. Mit Ihrer Spende leisten Sie einen wichtigen Beitrag zur medizinischen Versorgung in unserer Region. \nWeitere Informationen finden Sie auf der Website von Haema.
URL:https://werkbank32.eu/en/veranstaltung/blutspende-in-mittweida-19/
LOCATION:Werkbank32\, Bahnhofstraße 32 · 09648 Mittweida\, Mittweida\, Sachsen\, 09648\, Deutschland
CATEGORIES:Werkbank32
ATTACH;FMTTYPE=image/jpeg:https://werkbank32.eu/wp-content/uploads/2026/02/scan_20260209085613.jpg
END:VEVENT
BEGIN:VEVENT
DTSTART;TZID=Europe/Berlin:20261015T140000
DTEND;TZID=Europe/Berlin:20261015T190000
DTSTAMP:20260422T112749
CREATED:20260211T190510Z
LAST-MODIFIED:20260211T190510Z
UID:5035-1792072800-1792090800@werkbank32.eu
SUMMARY:Blutspende in Mittweida
DESCRIPTION:Regelmäßig finden in der Werkbank32 Blutspendetermine des Haema Blutspendedienstes statt. Mit Ihrer Spende leisten Sie einen wichtigen Beitrag zur medizinischen Versorgung in unserer Region. \nWeitere Informationen finden Sie auf der Website von Haema.
URL:https://werkbank32.eu/en/veranstaltung/blutspende-in-mittweida-20/
LOCATION:Werkbank32\, Bahnhofstraße 32 · 09648 Mittweida\, Mittweida\, Sachsen\, 09648\, Deutschland
CATEGORIES:Werkbank32
ATTACH;FMTTYPE=image/jpeg:https://werkbank32.eu/wp-content/uploads/2026/02/scan_20260209085613.jpg
END:VEVENT
BEGIN:VEVENT
DTSTART;TZID=Europe/Berlin:20261022T140000
DTEND;TZID=Europe/Berlin:20261022T190000
DTSTAMP:20260422T112749
CREATED:20260211T190556Z
LAST-MODIFIED:20260211T190556Z
UID:5036-1792677600-1792695600@werkbank32.eu
SUMMARY:Blutspende in Mittweida
DESCRIPTION:Regelmäßig finden in der Werkbank32 Blutspendetermine des Haema Blutspendedienstes statt. Mit Ihrer Spende leisten Sie einen wichtigen Beitrag zur medizinischen Versorgung in unserer Region. \nWeitere Informationen finden Sie auf der Website von Haema.
URL:https://werkbank32.eu/en/veranstaltung/blutspende-in-mittweida-21/
LOCATION:Werkbank32\, Bahnhofstraße 32 · 09648 Mittweida\, Mittweida\, Sachsen\, 09648\, Deutschland
CATEGORIES:Werkbank32
ATTACH;FMTTYPE=image/jpeg:https://werkbank32.eu/wp-content/uploads/2026/02/scan_20260209085613.jpg
END:VEVENT
BEGIN:VEVENT
DTSTART;TZID=Europe/Berlin:20261112T140000
DTEND;TZID=Europe/Berlin:20261112T190000
DTSTAMP:20260422T112749
CREATED:20260211T190641Z
LAST-MODIFIED:20260211T190641Z
UID:5037-1794492000-1794510000@werkbank32.eu
SUMMARY:Blutspende in Mittweida
DESCRIPTION:Regelmäßig finden in der Werkbank32 Blutspendetermine des Haema Blutspendedienstes statt. Mit Ihrer Spende leisten Sie einen wichtigen Beitrag zur medizinischen Versorgung in unserer Region. \nWeitere Informationen finden Sie auf der Website von Haema.
URL:https://werkbank32.eu/en/veranstaltung/blutspende-in-mittweida-22/
LOCATION:Werkbank32\, Bahnhofstraße 32 · 09648 Mittweida\, Mittweida\, Sachsen\, 09648\, Deutschland
CATEGORIES:Werkbank32
ATTACH;FMTTYPE=image/jpeg:https://werkbank32.eu/wp-content/uploads/2026/02/scan_20260209085613.jpg
END:VEVENT
BEGIN:VEVENT
DTSTART;TZID=Europe/Berlin:20261119T140000
DTEND;TZID=Europe/Berlin:20261119T190000
DTSTAMP:20260422T112749
CREATED:20260211T190801Z
LAST-MODIFIED:20260211T190801Z
UID:5038-1795096800-1795114800@werkbank32.eu
SUMMARY:Blutspende in Mittweida
DESCRIPTION:Regelmäßig finden in der Werkbank32 Blutspendetermine des Haema Blutspendedienstes statt. Mit Ihrer Spende leisten Sie einen wichtigen Beitrag zur medizinischen Versorgung in unserer Region. \nWeitere Informationen finden Sie auf der Website von Haema.
URL:https://werkbank32.eu/en/veranstaltung/blutspende-in-mittweida-23/
LOCATION:Werkbank32\, Bahnhofstraße 32 · 09648 Mittweida\, Mittweida\, Sachsen\, 09648\, Deutschland
CATEGORIES:Werkbank32
ATTACH;FMTTYPE=image/jpeg:https://werkbank32.eu/wp-content/uploads/2026/02/scan_20260209085613.jpg
END:VEVENT
BEGIN:VEVENT
DTSTART;TZID=Europe/Berlin:20261210T140000
DTEND;TZID=Europe/Berlin:20261210T190000
DTSTAMP:20260422T112749
CREATED:20260211T190849Z
LAST-MODIFIED:20260211T190849Z
UID:5039-1796911200-1796929200@werkbank32.eu
SUMMARY:Blutspende in Mittweida
DESCRIPTION:Regelmäßig finden in der Werkbank32 Blutspendetermine des Haema Blutspendedienstes statt. Mit Ihrer Spende leisten Sie einen wichtigen Beitrag zur medizinischen Versorgung in unserer Region. \nWeitere Informationen finden Sie auf der Website von Haema.
URL:https://werkbank32.eu/en/veranstaltung/blutspende-in-mittweida-24/
LOCATION:Werkbank32\, Bahnhofstraße 32 · 09648 Mittweida\, Mittweida\, Sachsen\, 09648\, Deutschland
CATEGORIES:Werkbank32
ATTACH;FMTTYPE=image/jpeg:https://werkbank32.eu/wp-content/uploads/2026/02/scan_20260209085613.jpg
END:VEVENT
BEGIN:VEVENT
DTSTART;TZID=Europe/Berlin:20261217T140000
DTEND;TZID=Europe/Berlin:20261217T190000
DTSTAMP:20260422T112749
CREATED:20260211T190932Z
LAST-MODIFIED:20260211T190932Z
UID:5040-1797516000-1797534000@werkbank32.eu
SUMMARY:Blutspende in Mittweida
DESCRIPTION:Regelmäßig finden in der Werkbank32 Blutspendetermine des Haema Blutspendedienstes statt. Mit Ihrer Spende leisten Sie einen wichtigen Beitrag zur medizinischen Versorgung in unserer Region. \nWeitere Informationen finden Sie auf der Website von Haema.
URL:https://werkbank32.eu/en/veranstaltung/blutspende-in-mittweida-25/
LOCATION:Werkbank32\, Bahnhofstraße 32 · 09648 Mittweida\, Mittweida\, Sachsen\, 09648\, Deutschland
CATEGORIES:Werkbank32
ATTACH;FMTTYPE=image/jpeg:https://werkbank32.eu/wp-content/uploads/2026/02/scan_20260209085613.jpg
END:VEVENT
END:VCALENDAR